BEGIN:VCALENDAR
VERSION:2.0
PRODID:icalendar-ruby
CALSCALE:GREGORIAN
METHOD:PUBLISH
BEGIN:VEVENT
DTSTAMP:20260419T225241Z
UID:8-311040@stjohns287.tithelysetup2.com
DTSTART:20260502T120000Z
DTEND:20260502T170000Z
CLASS:PUBLIC
CREATED:20260404T132533
DESCRIPTION:
LAST-MODIFIED:20260404T132533
LOCATION:
SUMMARY:Spring Into Summer Fair
URL;VALUE=URI:https://stjohns287.tithelysetup2.com/events/spring-into-summe
 r-fair/2026-05-02
END:VEVENT
END:VCALENDAR
