BEGIN:VCALENDAR
VERSION:2.0
PRODID:icalendar-ruby
CALSCALE:GREGORIAN
METHOD:PUBLISH
BEGIN:VEVENT
DTSTAMP:20260419T225208Z
UID:7-311039@stjohns287.tithelysetup2.com
DTSTART:20260425T203000Z
DTEND:20260425T220000Z
CLASS:PUBLIC
CREATED:20260404T132312
DESCRIPTION:
LAST-MODIFIED:20260404T132312
LOCATION:
SUMMARY:Public Supper
URL;VALUE=URI:https://stjohns287.tithelysetup2.com/events/public-supper--7/
 2026-04-25
END:VEVENT
END:VCALENDAR
