BEGIN:VCALENDAR
VERSION:2.0
PRODID:icalendar-ruby
CALSCALE:GREGORIAN
METHOD:PUBLISH
BEGIN:VEVENT
DTSTAMP:20260419T230137Z
UID:9-311041@stjohns287.tithelysetup2.com
DTSTART:20261107T130000Z
DTEND:20261107T190000Z
CLASS:PUBLIC
CREATED:20260404T132647
DESCRIPTION:
LAST-MODIFIED:20260404T132647
LOCATION:
SUMMARY:Harvest & Holly Fair
URL;VALUE=URI:https://stjohns287.tithelysetup2.com/events/harvest-holly-fai
 r/2026-11-07
END:VEVENT
END:VCALENDAR
